BEGIN:VCALENDAR
VERSION:2.0
PRODID:-//Kreisfeuerwehr Northeim - ECPv6.15.16//NONSGML v1.0//EN
CALSCALE:GREGORIAN
METHOD:PUBLISH
X-WR-CALNAME:Kreisfeuerwehr Northeim
X-ORIGINAL-URL:https://www.kfv-northeim.de
X-WR-CALDESC:Veranstaltungen für Kreisfeuerwehr Northeim
REFRESH-INTERVAL;VALUE=DURATION:PT1H
X-Robots-Tag:noindex
X-PUBLISHED-TTL:PT1H
BEGIN:VTIMEZONE
TZID:Europe/Berlin
BEGIN:DAYLIGHT
TZOFFSETFROM:+0100
TZOFFSETTO:+0200
TZNAME:CEST
DTSTART:20190331T010000
END:DAYLIGHT
BEGIN:STANDARD
TZOFFSETFROM:+0200
TZOFFSETTO:+0100
TZNAME:CET
DTSTART:20191027T010000
END:STANDARD
BEGIN:DAYLIGHT
TZOFFSETFROM:+0100
TZOFFSETTO:+0200
TZNAME:CEST
DTSTART:20200329T010000
END:DAYLIGHT
BEGIN:STANDARD
TZOFFSETFROM:+0200
TZOFFSETTO:+0100
TZNAME:CET
DTSTART:20201025T010000
END:STANDARD
BEGIN:DAYLIGHT
TZOFFSETFROM:+0100
TZOFFSETTO:+0200
TZNAME:CEST
DTSTART:20210328T010000
END:DAYLIGHT
BEGIN:STANDARD
TZOFFSETFROM:+0200
TZOFFSETTO:+0100
TZNAME:CET
DTSTART:20211031T010000
END:STANDARD
END:VTIMEZONE
BEGIN:VEVENT
DTSTART;TZID=Europe/Berlin:20201106T000000
DTEND;TZID=Europe/Berlin:20201108T000000
DTSTAMP:20260420T065316
CREATED:20191106T085355Z
LAST-MODIFIED:20191106T085355Z
UID:10000480-1604620800-1604793600@www.kfv-northeim.de
SUMMARY:Sprechfunkerlehrgang S286  Wochenendlehrgangstag
DESCRIPTION:
URL:https://www.kfv-northeim.de/event/sprechfunkerlehrgang-s286-wochenendlehrgangstag/
LOCATION:FTZ Bad Gandersheim\, Heckenbecker Straße 38\, Bad Gandersheim\, Niedersachsen\, 37581\, Deutschland
CATEGORIES:Lehrgang
END:VEVENT
BEGIN:VEVENT
DTSTART;TZID=Europe/Berlin:20201106T193000
DTEND;TZID=Europe/Berlin:20201106T193000
DTSTAMP:20260420T065316
CREATED:20200108T133559Z
LAST-MODIFIED:20200108T133559Z
UID:10000531-1604691000-1604691000@www.kfv-northeim.de
SUMMARY:Ehrungsveranstatung Brandabschnitt Nord
DESCRIPTION:
URL:https://www.kfv-northeim.de/event/ehrungsveranstatung-brandabschnitt-nord/
LOCATION:Lüthorst
CATEGORIES:Veranstaltung
END:VEVENT
BEGIN:VEVENT
DTSTART;TZID=Europe/Berlin:20201107T000000
DTEND;TZID=Europe/Berlin:20201107T000000
DTSTAMP:20260420T065316
CREATED:20190506T061738Z
LAST-MODIFIED:20190506T061738Z
UID:10000375-1604707200-1604707200@www.kfv-northeim.de
SUMMARY:145- jähriges Jubiläum FFW Dannhausen
DESCRIPTION:Die Freiwillige Feuerwehr Dannhausen feiert ihr Jubiläum mit einem Feuerwehrball
URL:https://www.kfv-northeim.de/event/145-jaehriges-jubilaeum-ffw-dannhausen-2/
LOCATION:Niedersachsen
END:VEVENT
BEGIN:VEVENT
DTSTART;TZID=Europe/Berlin:20201107T074500
DTEND;TZID=Europe/Berlin:20201107T074500
DTSTAMP:20260420T065316
CREATED:20191106T085937Z
LAST-MODIFIED:20191106T085937Z
UID:10000485-1604735100-1604735100@www.kfv-northeim.de
SUMMARY:Sprechfunkerlehrgang S287  1. Lehrgangstag
DESCRIPTION:
URL:https://www.kfv-northeim.de/event/sprechfunkerlehrgang-s287-1-lehrgangstag/
LOCATION:Feuerwehrhaus Hardegsen\, Am Gladeberg 12\, Hardegsen\, Niedersachsen\, 37181
CATEGORIES:Lehrgang
END:VEVENT
BEGIN:VEVENT
DTSTART;TZID=Europe/Berlin:20201107T080000
DTEND;TZID=Europe/Berlin:20201107T170000
DTSTAMP:20260420T065316
CREATED:20200810T073414Z
LAST-MODIFIED:20200810T073847Z
UID:10000554-1604736000-1604768400@www.kfv-northeim.de
SUMMARY:Maschinistenlehrgang M170  3. Lehrgangstag
DESCRIPTION:
URL:https://www.kfv-northeim.de/event/maschinistenlehrgang-m172-3-lehrgangstag/
LOCATION:FTZ Einbeck\, Benserstraße 37\, Einbeck\, Niedersachsen\, 37574\, Deutschland
CATEGORIES:Lehrgang
END:VEVENT
END:VCALENDAR