BEGIN:VCALENDAR
VERSION:2.0
PRODID:-//Kreisfeuerwehr Northeim - ECPv6.15.16//NONSGML v1.0//EN
CALSCALE:GREGORIAN
METHOD:PUBLISH
X-ORIGINAL-URL:https://www.kfv-northeim.de
X-WR-CALDESC:Veranstaltungen für Kreisfeuerwehr Northeim
REFRESH-INTERVAL;VALUE=DURATION:PT1H
X-Robots-Tag:noindex
X-PUBLISHED-TTL:PT1H
BEGIN:VTIMEZONE
TZID:Europe/Berlin
BEGIN:DAYLIGHT
TZOFFSETFROM:+0100
TZOFFSETTO:+0200
TZNAME:CEST
DTSTART:20190331T010000
END:DAYLIGHT
BEGIN:STANDARD
TZOFFSETFROM:+0200
TZOFFSETTO:+0100
TZNAME:CET
DTSTART:20191027T010000
END:STANDARD
BEGIN:DAYLIGHT
TZOFFSETFROM:+0100
TZOFFSETTO:+0200
TZNAME:CEST
DTSTART:20200329T010000
END:DAYLIGHT
BEGIN:STANDARD
TZOFFSETFROM:+0200
TZOFFSETTO:+0100
TZNAME:CET
DTSTART:20201025T010000
END:STANDARD
BEGIN:DAYLIGHT
TZOFFSETFROM:+0100
TZOFFSETTO:+0200
TZNAME:CEST
DTSTART:20210328T010000
END:DAYLIGHT
BEGIN:STANDARD
TZOFFSETFROM:+0200
TZOFFSETTO:+0100
TZNAME:CET
DTSTART:20211031T010000
END:STANDARD
END:VTIMEZONE
BEGIN:VEVENT
DTSTART;TZID=Europe/Berlin:20201024T074500
DTEND;TZID=Europe/Berlin:20201024T170000
DTSTAMP:20260420T083052
CREATED:20200810T073254Z
LAST-MODIFIED:20200810T073730Z
UID:10000552-1603525500-1603558800@www.kfv-northeim.de
SUMMARY:Maschinistenlehrgang M170 1. Lehrgangstag
DESCRIPTION:
URL:https://www.kfv-northeim.de/event/maschinistenlehrgang-m172-1-lehrgangstag/
LOCATION:FTZ Einbeck\, Benserstraße 37\, Einbeck\, Niedersachsen\, 37574\, Deutschland
CATEGORIES:Lehrgang
END:VEVENT
END:VCALENDAR