BEGIN:VCALENDAR
VERSION:2.0
PRODID:-//Kreisfeuerwehr Northeim - ECPv6.15.16//NONSGML v1.0//EN
CALSCALE:GREGORIAN
METHOD:PUBLISH
X-WR-CALNAME:Kreisfeuerwehr Northeim
X-ORIGINAL-URL:https://www.kfv-northeim.de
X-WR-CALDESC:Veranstaltungen für Kreisfeuerwehr Northeim
REFRESH-INTERVAL;VALUE=DURATION:PT1H
X-Robots-Tag:noindex
X-PUBLISHED-TTL:PT1H
BEGIN:VTIMEZONE
TZID:Europe/Berlin
BEGIN:DAYLIGHT
TZOFFSETFROM:+0100
TZOFFSETTO:+0200
TZNAME:CEST
DTSTART:20190331T010000
END:DAYLIGHT
BEGIN:STANDARD
TZOFFSETFROM:+0200
TZOFFSETTO:+0100
TZNAME:CET
DTSTART:20191027T010000
END:STANDARD
BEGIN:DAYLIGHT
TZOFFSETFROM:+0100
TZOFFSETTO:+0200
TZNAME:CEST
DTSTART:20200329T010000
END:DAYLIGHT
BEGIN:STANDARD
TZOFFSETFROM:+0200
TZOFFSETTO:+0100
TZNAME:CET
DTSTART:20201025T010000
END:STANDARD
BEGIN:DAYLIGHT
TZOFFSETFROM:+0100
TZOFFSETTO:+0200
TZNAME:CEST
DTSTART:20210328T010000
END:DAYLIGHT
BEGIN:STANDARD
TZOFFSETFROM:+0200
TZOFFSETTO:+0100
TZNAME:CET
DTSTART:20211031T010000
END:STANDARD
END:VTIMEZONE
BEGIN:VEVENT
DTSTART;VALUE=DATE:20200312
DTEND;VALUE=DATE:20200901
DTSTAMP:20260419T200608
CREATED:20200312T102325Z
LAST-MODIFIED:20200426T214915Z
UID:10000433-1583971200-1598918399@www.kfv-northeim.de
SUMMARY:Corona: Alle Veranstaltungen abgesagt
DESCRIPTION:Bitte beachten Sie die aktuelle Corona-Meldung der Kreisfeuerwehr: \n\nCorona-Fälle im Kreis Northeim: Kreisfeuerwehr sagt Veranstaltungen ab
URL:https://www.kfv-northeim.de/event/corona-alle-veranstaltungen-bis-ende-april-abgesagt/
LOCATION:Niedersachsen\, Deutschland
CATEGORIES:Veranstaltung
END:VEVENT
BEGIN:VEVENT
DTSTART;TZID=Europe/Berlin:20200606T074500
DTEND;TZID=Europe/Berlin:20200606T074500
DTSTAMP:20260419T200608
CREATED:20191106T074227Z
LAST-MODIFIED:20191106T074227Z
UID:10000352-1591429500-1591429500@www.kfv-northeim.de
SUMMARY:Truppmannausbildung Teil 1 / TMA I/63   1. Lehrgangstag
DESCRIPTION:zum 1. Lehrgangstag ist die Erste-Hilfe-Bescheinigung  ( nicht älter als 3 Jahre ) mitzubringen
URL:https://www.kfv-northeim.de/event/truppmannausbildung-teil-1-tma-i-63-1-lehrgangstag/
LOCATION:FTZ Northeim\, Von-Menzel-Straße 3\, Northeim\, Niedersachsen\, 37154\, Deutschland
CATEGORIES:Lehrgang
END:VEVENT
BEGIN:VEVENT
DTSTART;TZID=Europe/Berlin:20200606T074500
DTEND;TZID=Europe/Berlin:20200606T074500
DTSTAMP:20260419T200608
CREATED:20191106T084801Z
LAST-MODIFIED:20191106T084801Z
UID:10000475-1591429500-1591429500@www.kfv-northeim.de
SUMMARY:Sprechfunkerlehrgang S284  1. Lehrgangstag
DESCRIPTION:
URL:https://www.kfv-northeim.de/event/sprechfunkerlehrgang-s284-1-lehrgangstag/
LOCATION:FTZ Einbeck\, Benserstraße 37\, Einbeck\, Niedersachsen\, 37574\, Deutschland
CATEGORIES:Lehrgang
END:VEVENT
BEGIN:VEVENT
DTSTART;TZID=Europe/Berlin:20200606T074500
DTEND;TZID=Europe/Berlin:20200606T074500
DTSTAMP:20260419T200608
CREATED:20200204T090919Z
LAST-MODIFIED:20200204T090919Z
UID:10000537-1591429500-1591429500@www.kfv-northeim.de
SUMMARY:AGT-Lehrgang Teil II
DESCRIPTION:Dieser 4. Ausbildungstag betrifft die Teilnehmer\, die im Jahr 2019 ihre AGT-Ausbildung absolviert haben
URL:https://www.kfv-northeim.de/event/agt-lehrgang-teil-ii-2/
LOCATION:FTZ Bad Gandersheim\, Heckenbecker Straße 38\, Bad Gandersheim\, Niedersachsen\, 37581\, Deutschland
CATEGORIES:Lehrgang
END:VEVENT
BEGIN:VEVENT
DTSTART;TZID=Europe/Berlin:20200609T190000
DTEND;TZID=Europe/Berlin:20200609T210000
DTSTAMP:20260419T200608
CREATED:20191124T171536Z
LAST-MODIFIED:20191124T171536Z
UID:10000494-1591729200-1591736400@www.kfv-northeim.de
SUMMARY:Kreisjugendfeuerwehr-Ausschusssitzung 02/2020
DESCRIPTION:
URL:https://www.kfv-northeim.de/event/kreisjugendfeuerwehr-ausschusssitzung-02-2020/
LOCATION:Kreisschulungszentrum\, Von-Menzel-Straße 5\, Northeim\, Niedersachsen\, 37154\, Deutschland
CATEGORIES:Jugendfeuerwehr,Kinderfeuerwehr
END:VEVENT
BEGIN:VEVENT
DTSTART;TZID=Europe/Berlin:20200613T074500
DTEND;TZID=Europe/Berlin:20200613T074500
DTSTAMP:20260419T200608
CREATED:20191106T084846Z
LAST-MODIFIED:20191106T084846Z
UID:10000476-1592034300-1592034300@www.kfv-northeim.de
SUMMARY:Sprechfunkerlehrgang S284  2. Lehrgangstag
DESCRIPTION:
URL:https://www.kfv-northeim.de/event/sprechfunkerlehrgang-s284-2-lehrgangstag/
LOCATION:FTZ Einbeck\, Benserstraße 37\, Einbeck\, Niedersachsen\, 37574\, Deutschland
CATEGORIES:Lehrgang
END:VEVENT
BEGIN:VEVENT
DTSTART;TZID=Europe/Berlin:20200613T074500
DTEND;TZID=Europe/Berlin:20200613T170000
DTSTAMP:20260419T200608
CREATED:20191106T074405Z
LAST-MODIFIED:20191106T074405Z
UID:10000414-1592034300-1592067600@www.kfv-northeim.de
SUMMARY:Truppmannausbildung Teil 1 / TMA I/63  2. Lehrgangstag
DESCRIPTION:
URL:https://www.kfv-northeim.de/event/truppmannausbildung-teil-1-tma-i-63-2-lehrgangstag/
LOCATION:FTZ Northeim\, Von-Menzel-Straße 3\, Northeim\, Niedersachsen\, 37154\, Deutschland
CATEGORIES:Lehrgang
END:VEVENT
BEGIN:VEVENT
DTSTART;TZID=Europe/Berlin:20200614T090000
DTEND;TZID=Europe/Berlin:20200614T130000
DTSTAMP:20260419T200608
CREATED:20190722T153304Z
LAST-MODIFIED:20190722T153304Z
UID:10000378-1592125200-1592139600@www.kfv-northeim.de
SUMMARY:Delegiertentag Kreisfeuerwehrverband Northeim e.V.
DESCRIPTION:Der Delegiertentag des Kreisfeuerwehrverband Northeim e. V.  findet im Rahmen des Jubiläums der Freiwilligen Feuerwehr Verliehausen\, im Festzelt statt
URL:https://www.kfv-northeim.de/event/delegiertentag-kreisfeuerwehrverband-northeim-e-v/
LOCATION:Verliehausen\, Verliehausen\, 37170
END:VEVENT
BEGIN:VEVENT
DTSTART;VALUE=DATE:20200620
DTEND;VALUE=DATE:20200621
DTSTAMP:20260419T200608
CREATED:20190812T093240Z
LAST-MODIFIED:20190812T093240Z
UID:10000380-1592611200-1592697599@www.kfv-northeim.de
SUMMARY:Leistungsvergleiche auf Landesebene in Hannover
DESCRIPTION:
URL:https://www.kfv-northeim.de/event/leistungsvergleiche-auf-landesebene-in-hannover/
LOCATION:Niedersachsen
END:VEVENT
BEGIN:VEVENT
DTSTART;TZID=Europe/Berlin:20200620T074500
DTEND;TZID=Europe/Berlin:20200620T170000
DTSTAMP:20260419T200608
CREATED:20191106T074459Z
LAST-MODIFIED:20191106T074459Z
UID:10000415-1592639100-1592672400@www.kfv-northeim.de
SUMMARY:Truppmannausbildung Teil 1 / TMA I/63  3. Lehrgangstag
DESCRIPTION:
URL:https://www.kfv-northeim.de/event/truppmannausbildung-teil-1-tma-i-63-3-lehrgangstag/
LOCATION:FTZ Northeim\, Von-Menzel-Straße 3\, Northeim\, Niedersachsen\, 37154\, Deutschland
CATEGORIES:Lehrgang
END:VEVENT
BEGIN:VEVENT
DTSTART;TZID=Europe/Berlin:20200627T074500
DTEND;TZID=Europe/Berlin:20200627T074500
DTSTAMP:20260419T200608
CREATED:20191106T074545Z
LAST-MODIFIED:20191106T074545Z
UID:10000416-1593243900-1593243900@www.kfv-northeim.de
SUMMARY:Truppmannausbildung Teil 1 / TMA I/63  4. Lehrgangstag
DESCRIPTION:
URL:https://www.kfv-northeim.de/event/truppmannausbildung-teil-1-tma-i-63-4-lehrgangstag/
LOCATION:FTZ Northeim\, Von-Menzel-Straße 3\, Northeim\, Niedersachsen\, 37154\, Deutschland
CATEGORIES:Lehrgang
END:VEVENT
END:VCALENDAR