BEGIN:VCALENDAR
VERSION:2.0
PRODID:-//Kreisfeuerwehr Northeim - ECPv6.15.16//NONSGML v1.0//EN
CALSCALE:GREGORIAN
METHOD:PUBLISH
X-WR-CALNAME:Kreisfeuerwehr Northeim
X-ORIGINAL-URL:https://www.kfv-northeim.de
X-WR-CALDESC:Veranstaltungen für Kreisfeuerwehr Northeim
REFRESH-INTERVAL;VALUE=DURATION:PT1H
X-Robots-Tag:noindex
X-PUBLISHED-TTL:PT1H
BEGIN:VTIMEZONE
TZID:Europe/Berlin
BEGIN:DAYLIGHT
TZOFFSETFROM:+0100
TZOFFSETTO:+0200
TZNAME:CEST
DTSTART:20190331T010000
END:DAYLIGHT
BEGIN:STANDARD
TZOFFSETFROM:+0200
TZOFFSETTO:+0100
TZNAME:CET
DTSTART:20191027T010000
END:STANDARD
BEGIN:DAYLIGHT
TZOFFSETFROM:+0100
TZOFFSETTO:+0200
TZNAME:CEST
DTSTART:20200329T010000
END:DAYLIGHT
BEGIN:STANDARD
TZOFFSETFROM:+0200
TZOFFSETTO:+0100
TZNAME:CET
DTSTART:20201025T010000
END:STANDARD
BEGIN:DAYLIGHT
TZOFFSETFROM:+0100
TZOFFSETTO:+0200
TZNAME:CEST
DTSTART:20210328T010000
END:DAYLIGHT
BEGIN:STANDARD
TZOFFSETFROM:+0200
TZOFFSETTO:+0100
TZNAME:CET
DTSTART:20211031T010000
END:STANDARD
END:VTIMEZONE
BEGIN:VEVENT
DTSTART;VALUE=DATE:20200312
DTEND;VALUE=DATE:20200901
DTSTAMP:20260420T022515
CREATED:20200312T102325Z
LAST-MODIFIED:20200426T214915Z
UID:10000433-1583971200-1598918399@www.kfv-northeim.de
SUMMARY:Corona: Alle Veranstaltungen abgesagt
DESCRIPTION:Bitte beachten Sie die aktuelle Corona-Meldung der Kreisfeuerwehr: \n\nCorona-Fälle im Kreis Northeim: Kreisfeuerwehr sagt Veranstaltungen ab
URL:https://www.kfv-northeim.de/event/corona-alle-veranstaltungen-bis-ende-april-abgesagt/
LOCATION:Niedersachsen\, Deutschland
CATEGORIES:Veranstaltung
END:VEVENT
BEGIN:VEVENT
DTSTART;TZID=Europe/Berlin:20200829T074500
DTEND;TZID=Europe/Berlin:20200829T074500
DTSTAMP:20260420T022515
CREATED:20191106T084944Z
LAST-MODIFIED:20200810T070815Z
UID:10000477-1598687100-1598687100@www.kfv-northeim.de
SUMMARY:Sprechfunkerlehrgang S284  1. Lehrgangstag
DESCRIPTION:
URL:https://www.kfv-northeim.de/event/sprechfunkerlehrgang-s285-1-lehrgangstag/
LOCATION:FTZ Einbeck\, Benserstraße 37\, Einbeck\, Niedersachsen\, 37574\, Deutschland
CATEGORIES:Lehrgang
END:VEVENT
BEGIN:VEVENT
DTSTART;VALUE=DATE:20200905
DTEND;VALUE=DATE:20200906
DTSTAMP:20260420T022515
CREATED:20200313T092708Z
LAST-MODIFIED:20200313T092708Z
UID:10000434-1599264000-1599350399@www.kfv-northeim.de
SUMMARY:Feuerwehrmarsch der Feuerwehren der Stadt Einbeck
DESCRIPTION:Der Feuerwehrmarsch findet in Iber statt
URL:https://www.kfv-northeim.de/event/feuerwehrmarsch-der-feuerwehren-der-stadt-einbeck/
LOCATION:Iber\, Niedersachsen\, Deutschland
CATEGORIES:Veranstaltung
END:VEVENT
BEGIN:VEVENT
DTSTART;TZID=Europe/Berlin:20200905T074500
DTEND;TZID=Europe/Berlin:20200905T074500
DTSTAMP:20260420T022515
CREATED:20191106T085033Z
LAST-MODIFIED:20200810T070857Z
UID:10000478-1599291900-1599291900@www.kfv-northeim.de
SUMMARY:Sprechfunkerlehrgang S284  2. Lehrgangstag
DESCRIPTION:
URL:https://www.kfv-northeim.de/event/sprechfunkerlehrgang-s285-2-lehrgangstag/
LOCATION:FTZ Einbeck\, Benserstraße 37\, Einbeck\, Niedersachsen\, 37574\, Deutschland
CATEGORIES:Lehrgang
END:VEVENT
BEGIN:VEVENT
DTSTART;TZID=Europe/Berlin:20200905T074500
DTEND;TZID=Europe/Berlin:20200905T170000
DTSTAMP:20260420T022515
CREATED:20200804T062053Z
LAST-MODIFIED:20200804T062053Z
UID:10000444-1599291900-1599325200@www.kfv-northeim.de
SUMMARY:Truppmann I-Ausbildung TMA I/63  1. Tag
DESCRIPTION:
URL:https://www.kfv-northeim.de/event/truppmann-i-ausbildung-tma-i-63-1-tag/
LOCATION:Kreisschulungszentrum\, Von-Menzel-Straße 5\, Northeim\, Niedersachsen\, 37154\, Deutschland
CATEGORIES:Lehrgang
END:VEVENT
BEGIN:VEVENT
DTSTART;TZID=Europe/Berlin:20200908T190000
DTEND;TZID=Europe/Berlin:20200908T210000
DTSTAMP:20260420T022515
CREATED:20191124T171638Z
LAST-MODIFIED:20200801T134345Z
UID:10000496-1599591600-1599598800@www.kfv-northeim.de
SUMMARY:Kreisjugendfeuerwehr-Ausschusssitzung 03/2020 ONLINE
DESCRIPTION:
URL:https://www.kfv-northeim.de/event/kreisjugendfeuerwehr-ausschusssitzung-03-2020/
LOCATION:Niedersachsen
CATEGORIES:Jugendfeuerwehr,Kinderfeuerwehr
END:VEVENT
BEGIN:VEVENT
DTSTART;TZID=Europe/Berlin:20200909T190000
DTEND;TZID=Europe/Berlin:20200909T220000
DTSTAMP:20260420T022515
CREATED:20191106T090600Z
LAST-MODIFIED:20200810T072414Z
UID:10000488-1599678000-1599688800@www.kfv-northeim.de
SUMMARY:Truppmann II- Ausbildung - Gefährliche Stoffe und KatS-Ausbildung
DESCRIPTION:Nachweis über die Truppmann Teil 2 Ausbildung ist mitzubringen
URL:https://www.kfv-northeim.de/event/truppmann-ii-ausbildung-bes-gefahren-im-zivilschutz/
LOCATION:FTZ Einbeck\, Benserstraße 37\, Einbeck\, Niedersachsen\, 37574\, Deutschland
CATEGORIES:Lehrgang
END:VEVENT
BEGIN:VEVENT
DTSTART;TZID=Europe/Berlin:20200912T074500
DTEND;TZID=Europe/Berlin:20200912T074500
DTSTAMP:20260420T022515
CREATED:20191106T084129Z
LAST-MODIFIED:20200804T061434Z
UID:10000473-1599896700-1599896700@www.kfv-northeim.de
SUMMARY:Maschinistenlehrgang M169   3. Lehrgangstag
DESCRIPTION:
URL:https://www.kfv-northeim.de/event/maschinistenlehrgang-m171-1-lehrgangstag/
LOCATION:FTZ Northeim\, Von-Menzel-Straße 3\, Northeim\, Niedersachsen\, 37154\, Deutschland
CATEGORIES:Lehrgang
END:VEVENT
BEGIN:VEVENT
DTSTART;TZID=Europe/Berlin:20200912T074500
DTEND;TZID=Europe/Berlin:20200912T170000
DTSTAMP:20260420T022515
CREATED:20191106T075527Z
LAST-MODIFIED:20191106T075527Z
UID:10000418-1599896700-1599930000@www.kfv-northeim.de
SUMMARY:Atemschutzgeräteträgerlehrgang A 221  1. Lehrgangstag
DESCRIPTION:zum 1. Lehrgangstag ist die gültige G26.3 Untersuchungsbescheiningung mitzubringen
URL:https://www.kfv-northeim.de/event/atemschutzgeraetetraegerlehrgang-a-221-1-lehrgangstag/
LOCATION:FTZ Einbeck\, Benserstraße 37\, Einbeck\, Niedersachsen\, 37574\, Deutschland
CATEGORIES:Lehrgang
END:VEVENT
BEGIN:VEVENT
DTSTART;TZID=Europe/Berlin:20200912T074500
DTEND;TZID=Europe/Berlin:20200912T170000
DTSTAMP:20260420T022515
CREATED:20200804T062155Z
LAST-MODIFIED:20200804T062155Z
UID:10000445-1599896700-1599930000@www.kfv-northeim.de
SUMMARY:Truppmann I-Ausbildung TMA I/63  2. Tag
DESCRIPTION:
URL:https://www.kfv-northeim.de/event/truppmann-i-ausbildung-tma-i-63-2-tag/
LOCATION:Kreisschulungszentrum\, Von-Menzel-Straße 5\, Northeim\, Niedersachsen\, 37154\, Deutschland
CATEGORIES:Lehrgang
END:VEVENT
BEGIN:VEVENT
DTSTART;TZID=Europe/Berlin:20200919T000000
DTEND;TZID=Europe/Berlin:20200919T000000
DTSTAMP:20260420T022515
CREATED:20191030T091031Z
LAST-MODIFIED:20191030T091031Z
UID:10000410-1600473600-1600473600@www.kfv-northeim.de
SUMMARY:Gemeindeorrientierungsmarsch Feuerwehren Gemeinde Kalefeld in Echte
DESCRIPTION:
URL:https://www.kfv-northeim.de/event/gemeindeorrientierungsmarsch-feuerwehren-gemeinde-kalefeld-in-echte/
LOCATION:Echte\, Niedersachsen\, Deutschland
END:VEVENT
BEGIN:VEVENT
DTSTART;TZID=Europe/Berlin:20200919T074500
DTEND;TZID=Europe/Berlin:20200919T074500
DTSTAMP:20260420T022515
CREATED:20191106T084237Z
LAST-MODIFIED:20200804T061601Z
UID:10000474-1600501500-1600501500@www.kfv-northeim.de
SUMMARY:Maschinistenlehrgang M169   4. Lehrgangstag
DESCRIPTION:
URL:https://www.kfv-northeim.de/event/maschinistenlehrgang-m171-2-lehrgangstag/
LOCATION:FTZ Northeim\, Von-Menzel-Straße 3\, Northeim\, Niedersachsen\, 37154\, Deutschland
CATEGORIES:Lehrgang
END:VEVENT
BEGIN:VEVENT
DTSTART;TZID=Europe/Berlin:20200919T074500
DTEND;TZID=Europe/Berlin:20200919T170000
DTSTAMP:20260420T022515
CREATED:20191106T075710Z
LAST-MODIFIED:20191106T075710Z
UID:10000419-1600501500-1600534800@www.kfv-northeim.de
SUMMARY:Atemschutzgeräteträgerlehrgang A221  2. Lehrgangstag
DESCRIPTION:
URL:https://www.kfv-northeim.de/event/atemschutzgeraetetraegerlehrgang-a221-2-lehrgangstag/
LOCATION:FTZ Einbeck\, Benserstraße 37\, Einbeck\, Niedersachsen\, 37574\, Deutschland
CATEGORIES:Lehrgang
END:VEVENT
BEGIN:VEVENT
DTSTART;TZID=Europe/Berlin:20200919T074500
DTEND;TZID=Europe/Berlin:20200919T170000
DTSTAMP:20260420T022515
CREATED:20200204T091438Z
LAST-MODIFIED:20200907T071557Z
UID:10000540-1600501500-1600534800@www.kfv-northeim.de
SUMMARY:AGT-LehrgangTeil II  - Abgesagt !!!
DESCRIPTION:Dieser 4. Ausbildungstag betrifft die Teilnehmer\, die im Jahr 2019 ihre AGT-Ausbildung absolviert haben
URL:https://www.kfv-northeim.de/event/agt-lehrgangteil-ii/
LOCATION:FTZ Bad Gandersheim\, Heckenbecker Straße 38\, Bad Gandersheim\, Niedersachsen\, 37581\, Deutschland
CATEGORIES:Lehrgang
END:VEVENT
BEGIN:VEVENT
DTSTART;TZID=Europe/Berlin:20200919T074500
DTEND;TZID=Europe/Berlin:20200919T170000
DTSTAMP:20260420T022515
CREATED:20200804T062301Z
LAST-MODIFIED:20200804T062301Z
UID:10000541-1600501500-1600534800@www.kfv-northeim.de
SUMMARY:Truppmann I-Ausbildung TMA I/63  3. Tag
DESCRIPTION:
URL:https://www.kfv-northeim.de/event/truppmann-i-ausbildung-tma-i-63-3-tag/
LOCATION:Kreisschulungszentrum\, Von-Menzel-Straße 5\, Northeim\, Niedersachsen\, 37154\, Deutschland
CATEGORIES:Lehrgang
END:VEVENT
BEGIN:VEVENT
DTSTART;TZID=Europe/Berlin:20200919T100000
DTEND;TZID=Europe/Berlin:20200919T170000
DTSTAMP:20260420T022515
CREATED:20191201T111832Z
LAST-MODIFIED:20200801T134117Z
UID:10000505-1600509600-1600534800@www.kfv-northeim.de
SUMMARY:Abgesagt: Abnahme Leistungspange
DESCRIPTION:Die Leistungsspange der Deutschen Jugendfeuerwehr ist die höchste Auszeichnung für ein Jugendfeuerwehrmitglied. Diese Abnahme findet für die Jugendfeuerwehren aus den Landkreisen Northeim und Hildesheim im LK Hildesheim statt. Genauer Ort wird zeitnah bekanntgegeben.
URL:https://www.kfv-northeim.de/event/abnahme-leistungspange/
LOCATION:LK Hildesheim\, Niedersachsen\, Deutschland
CATEGORIES:Jugendfeuerwehr
END:VEVENT
BEGIN:VEVENT
DTSTART;TZID=Europe/Berlin:20200920T000000
DTEND;TZID=Europe/Berlin:20200920T000000
DTSTAMP:20260420T022515
CREATED:20191216T084104Z
LAST-MODIFIED:20200918T213507Z
UID:10000525-1600560000-1600560000@www.kfv-northeim.de
SUMMARY:Abgesagt: Pokalwettbewerbe der Feuerwehren „Auf dem Berge“
DESCRIPTION:
URL:https://www.kfv-northeim.de/event/pokalwettbewerbe-der-feuerwehren-auf-dem-berge/
LOCATION:Stroit
CATEGORIES:Veranstaltung
END:VEVENT
BEGIN:VEVENT
DTSTART;TZID=Europe/Berlin:20200926T074500
DTEND;TZID=Europe/Berlin:20200926T074500
DTSTAMP:20260420T022515
CREATED:20191106T080455Z
LAST-MODIFIED:20191106T080455Z
UID:10000420-1601106300-1601106300@www.kfv-northeim.de
SUMMARY:Atemschutzgeräteträgerlehrgang A221  3. Lehrgangstag
DESCRIPTION:
URL:https://www.kfv-northeim.de/event/atemschutzgeraetetraegerlehrgang-a221-3-lehrgangstag/
LOCATION:FTZ Einbeck\, Benserstraße 37\, Einbeck\, Niedersachsen\, 37574\, Deutschland
CATEGORIES:Lehrgang
END:VEVENT
BEGIN:VEVENT
DTSTART;TZID=Europe/Berlin:20200926T074500
DTEND;TZID=Europe/Berlin:20200926T170000
DTSTAMP:20260420T022515
CREATED:20200804T062353Z
LAST-MODIFIED:20200804T062353Z
UID:10000542-1601106300-1601139600@www.kfv-northeim.de
SUMMARY:Truppmann I-Ausbildung TMA I/63  4. Tag
DESCRIPTION:
URL:https://www.kfv-northeim.de/event/truppmann-i-ausbildung-tma-i-63-4-tag/
LOCATION:Kreisschulungszentrum\, Von-Menzel-Straße 5\, Northeim\, Niedersachsen\, 37154\, Deutschland
CATEGORIES:Lehrgang
END:VEVENT
BEGIN:VEVENT
DTSTART;TZID=Europe/Berlin:20200926T074500
DTEND;TZID=Europe/Berlin:20200927T000000
DTSTAMP:20260420T022515
CREATED:20191106T082757Z
LAST-MODIFIED:20191106T082757Z
UID:10000441-1601106300-1601164800@www.kfv-northeim.de
SUMMARY:Maschinistenlehrgang M172  1. + 2. Lehrgangstag
DESCRIPTION:Dieser Lehrgang findet an ZWEI Wochenenden am Samstag u. Sonntag statt.
URL:https://www.kfv-northeim.de/event/maschinistenlehrgang-m172-1-2-lehrgangstag/
LOCATION:FTZ Bad Gandersheim\, Heckenbecker Straße 38\, Bad Gandersheim\, Niedersachsen\, 37581\, Deutschland
CATEGORIES:Lehrgang
END:VEVENT
BEGIN:VEVENT
DTSTART;TZID=Europe/Berlin:20200926T130000
DTEND;TZID=Europe/Berlin:20200926T130000
DTSTAMP:20260420T022515
CREATED:20191209T145315Z
LAST-MODIFIED:20191209T145315Z
UID:10000524-1601125200-1601125200@www.kfv-northeim.de
SUMMARY:Feuerwehrzehnkampf der Stadtfeuerwehren Bad Gandersheim
DESCRIPTION:
URL:https://www.kfv-northeim.de/event/feuerwehrzehnkampf-der-stadtfeuerwehren-bad-gandersheim/
LOCATION:Harriehausen
END:VEVENT
BEGIN:VEVENT
DTSTART;TZID=Europe/Berlin:20200926T180000
DTEND;TZID=Europe/Berlin:20200926T180000
DTSTAMP:20260420T022515
CREATED:20200810T072806Z
LAST-MODIFIED:20200810T072806Z
UID:10000551-1601143200-1601143200@www.kfv-northeim.de
SUMMARY:Überörtliche TM2-Ausbildung   Technische Hilfeleistung\, Sonderfahrzeuge\, Einsatzübung
DESCRIPTION:
URL:https://www.kfv-northeim.de/event/ueberoertliche-tm2-ausbildung-technische-hilfeleistung-sonderfahrzeuge-einsatzuebung/
LOCATION:FTZ Einbeck\, Benserstraße 37\, Einbeck\, Niedersachsen\, 37574\, Deutschland
CATEGORIES:Lehrgang
END:VEVENT
BEGIN:VEVENT
DTSTART;TZID=Europe/Berlin:20201007T190000
DTEND;TZID=Europe/Berlin:20201007T220000
DTSTAMP:20260420T022515
CREATED:20200810T065954Z
LAST-MODIFIED:20200810T065954Z
UID:10000544-1602097200-1602108000@www.kfv-northeim.de
SUMMARY:Truppmann I-Ausbildung TMA I/62  3. Ausbildungstag
DESCRIPTION:
URL:https://www.kfv-northeim.de/event/truppmann-i-ausbildung-tma-i-62-3-ausbildungstag/
LOCATION:FTZ Einbeck\, Benserstraße 37\, Einbeck\, Niedersachsen\, 37574\, Deutschland
CATEGORIES:Lehrgang
END:VEVENT
BEGIN:VEVENT
DTSTART;TZID=Europe/Berlin:20201008T190000
DTEND;TZID=Europe/Berlin:20201008T220000
DTSTAMP:20260420T022515
CREATED:20200810T070052Z
LAST-MODIFIED:20200810T070052Z
UID:10000545-1602183600-1602194400@www.kfv-northeim.de
SUMMARY:Truppmann I-Ausbildung TMA I/62  4. Ausbildungstag
DESCRIPTION:
URL:https://www.kfv-northeim.de/event/truppmann-i-ausbildung-tma-i-62-4-ausbildungstag/
LOCATION:FTZ Einbeck\, Benserstraße 37\, Einbeck\, Niedersachsen\, 37574\, Deutschland
CATEGORIES:Lehrgang
END:VEVENT
BEGIN:VEVENT
DTSTART;TZID=Europe/Berlin:20201010T074500
DTEND;TZID=Europe/Berlin:20201010T170000
DTSTAMP:20260420T022515
CREATED:20200804T062433Z
LAST-MODIFIED:20200804T062433Z
UID:10000543-1602315900-1602349200@www.kfv-northeim.de
SUMMARY:Truppmann I-Ausbildung TMA I/63  5. Tag
DESCRIPTION:
URL:https://www.kfv-northeim.de/event/truppmann-i-ausbildung-tma-i-63-5-tag/
LOCATION:Kreisschulungszentrum\, Von-Menzel-Straße 5\, Northeim\, Niedersachsen\, 37154\, Deutschland
CATEGORIES:Lehrgang
END:VEVENT
BEGIN:VEVENT
DTSTART;TZID=Europe/Berlin:20201010T074500
DTEND;TZID=Europe/Berlin:20201011T000000
DTSTAMP:20260420T022515
CREATED:20191106T083047Z
LAST-MODIFIED:20191106T083047Z
UID:10000443-1602315900-1602374400@www.kfv-northeim.de
SUMMARY:Maschinistenlehrgang M172  3. + 4. Lehrgangstag
DESCRIPTION:Dieser Lehrgang findet an ZWEI Wochenenden am Samstag u. Sonntag statt.
URL:https://www.kfv-northeim.de/event/maschinistenlehrgang-m172-3-4-lehrgangstag/
LOCATION:FTZ Bad Gandersheim\, Heckenbecker Straße 38\, Bad Gandersheim\, Niedersachsen\, 37581\, Deutschland
CATEGORIES:Lehrgang
END:VEVENT
BEGIN:VEVENT
DTSTART;TZID=Europe/Berlin:20201010T080000
DTEND;TZID=Europe/Berlin:20201010T170000
DTSTAMP:20260420T022515
CREATED:20200810T070135Z
LAST-MODIFIED:20200810T070135Z
UID:10000546-1602316800-1602349200@www.kfv-northeim.de
SUMMARY:Truppmann I-Ausbildung TMA I/62  5. Ausbildungstag
DESCRIPTION:
URL:https://www.kfv-northeim.de/event/truppmann-i-ausbildung-tma-i-62-5-ausbildungstag/
LOCATION:FTZ Einbeck\, Benserstraße 37\, Einbeck\, Niedersachsen\, 37574\, Deutschland
CATEGORIES:Lehrgang
END:VEVENT
BEGIN:VEVENT
DTSTART;TZID=Europe/Berlin:20201010T080000
DTEND;TZID=Europe/Berlin:20201010T170000
DTSTAMP:20260420T022515
CREATED:20200810T071758Z
LAST-MODIFIED:20200810T072119Z
UID:10000548-1602316800-1602349200@www.kfv-northeim.de
SUMMARY:Atemschutzgeräteträgerlehrgang A220  1. Lehrgangstag
DESCRIPTION:
URL:https://www.kfv-northeim.de/event/atemschutzgeraetetraegerlehrgang-a220-1-lehrgangstag-2/
LOCATION:Feuerwehrhaus Uslar\, Wilhelm-Raabe-Straße 6\, Uslar\, Niedersachsen\, 37170
CATEGORIES:Lehrgang
END:VEVENT
BEGIN:VEVENT
DTSTART;TZID=Europe/Berlin:20201016T160000
DTEND;TZID=Europe/Berlin:20201016T160000
DTSTAMP:20260420T022515
CREATED:20191014T073401Z
LAST-MODIFIED:20191014T073401Z
UID:10000408-1602864000-1602864000@www.kfv-northeim.de
SUMMARY:Blutspende
DESCRIPTION:Blutspende im Feuerwehrhaus der Freiwilligen Feuerwehr Altgandersheim
URL:https://www.kfv-northeim.de/event/blutspende-3/
LOCATION:Feuerwehrhaus Altgandersheim\, Sonnenberg\, Altgandersheim\, Niedersachsen\, 37581
END:VEVENT
BEGIN:VEVENT
DTSTART;TZID=Europe/Berlin:20201017T074500
DTEND;TZID=Europe/Berlin:20201017T184500
DTSTAMP:20260420T022515
CREATED:20200810T071859Z
LAST-MODIFIED:20200810T071859Z
UID:10000549-1602920700-1602960300@www.kfv-northeim.de
SUMMARY:Atemschutzgeräteträgerlehrgang A220  2. Lehrgangstag
DESCRIPTION:
URL:https://www.kfv-northeim.de/event/atemschutzgeraetetraegerlehrgang-a220-2-lehrgangstag-2/
LOCATION:Feuerwehrhaus Uslar\, Wilhelm-Raabe-Straße 6\, Uslar\, Niedersachsen\, 37170
CATEGORIES:Lehrgang
END:VEVENT
END:VCALENDAR